BEGIN:VCALENDAR
VERSION:2.0
PRODID:-//ExpressionEngine Easy iCalendar plugin//NONSGML v2.0.1//EN
X-WR-TIMEZONE:America/New_York
X-WR-CALNAME:Upcoming Auctions
BEGIN:VEVENT
UID:1472
DTSTAMP:20260421T100000
DTSTART:20260421T100000
DTEND:20260421T110000
SUMMARY:Bieler Enterprises LLC Cranberry Farm Equipment Dispersal
LOCATION:976 State Route 13\, Williamstown\, NY 13493\, US
DESCRIPTION:Join us for this cranberry farm equipment dispersal! Having 
 sold the farm\, Beiler Enterprises LLC has commissioned us to
  disperse of the machinery. Most of equipment has been bough
 t new and regularly maintained.
URL:https://www.montgomerytractor.com/auctions/detail/bw1472
SEQUENCE:1
END:VEVENT
END:VCALENDAR