BEGIN:VCALENDAR
VERSION:2.0
PRODID:-//ExpressionEngine Easy iCalendar plugin//NONSGML v2.0.1//EN
X-WR-TIMEZONE:America/New_York
X-WR-CALNAME:Upcoming Auctions
BEGIN:VEVENT
UID:1492
DTSTAMP:20260420T085500
DTSTART:20260420T085500
DTEND:20260420T095500
SUMMARY:Collins Equipment Co Auction
LOCATION:{location}
DESCRIPTION:Auction is Monday\, April 20\, 2026 at 9:00 AM (Eastern Time).
  Location: Collins Equipment Co\, 5887 W 500 N\, Thorntown\, IN
  46071. Open for consignments. Call Chris for more info: 317
 -374-0074.
URL:https://www.montgomerytractor.com/auctions/detail/bw1492
SEQUENCE:1
END:VEVENT
END:VCALENDAR