BEGIN:VCALENDAR
VERSION:2.0
PRODID:-//ExpressionEngine Easy iCalendar plugin//NONSGML v2.0.1//EN
X-WR-TIMEZONE:America/New_York
X-WR-CALNAME:Upcoming Auctions
BEGIN:VEVENT
UID:1500
DTSTAMP:20260408T092500
DTSTART:20260408T092500
DTEND:20260408T102500
SUMMARY:LIVE & ONLINE Weeks Farm Machinery Auction\, Inc. - Wed. Apri
 l 8th
LOCATION:2186 Sylvester Hwy\, Moultrie\, GA 31768\, US
DESCRIPTION:Tractors\, Implements\, Construction & Industrial Equipment an
 d Much More! Quality Consignments Welcome. A 10% Buyer’s P
 remium will be applied to all purchases with the buyer’s p
 remium capped at $350.00 per item. 3% Internet fee.
URL:https://www.montgomerytractor.com/auctions/detail/bw1500
SEQUENCE:1
END:VEVENT
END:VCALENDAR